BEGIN:VCALENDAR
VERSION:2.0
PRODID:-//Tukios.com/
BEGIN:VEVENT
UID:560013cf-7b60-440d-b658-d56146140306@www.fischfh.com
DTSTAMP:20260423T051859Z
DTSTART:20260425T150000Z
DTEND:20260425T154500Z
SUMMARY:Funeral Service
DESCRIPTION:
URL:https://www.fischfh.com/obituaries/robert-powell
LOCATION: 503 S Washington St  Remsen IA 51050
GEO:42.8112872;-95.973055
END:VEVENT
END:VCALENDAR