BEGIN:VCALENDAR
VERSION:2.0
PRODID:-//Tukios.com/
BEGIN:VEVENT
UID:4726b863-99e8-4649-aade-3fbad56c221b@www.fischfh.com
DTSTAMP:20260423T052017Z
DTSTART:20260425T140000Z
DTEND:20260425T150000Z
SUMMARY:Visitation
DESCRIPTION:
URL:https://www.fischfh.com/obituaries/robert-powell
LOCATION: 503 S Washington St  Remsen IA 51050
GEO:42.8112872;-95.973055
END:VEVENT
END:VCALENDAR