BEGIN:VCALENDAR
VERSION:2.0
PRODID:-//Tukios.com/
BEGIN:VEVENT
UID:6cd01845-9529-4bda-a320-3d406cdf5330@www.fischfh.com
DTSTAMP:20260423T051957Z
DTSTART:20260425T160000Z
DTEND:20260425T170000Z
SUMMARY:Burial
DESCRIPTION:
URL:https://www.fischfh.com/obituaries/robert-powell
LOCATION:Remsen Community Cemetery L12  Remsen IA 51050
GEO:42.808035;-95.9770558
END:VEVENT
END:VCALENDAR